BEGIN:VCALENDAR
VERSION:2.0
PRODID:-//HABS Hessen - ECPv6.15.20//NONSGML v1.0//EN
CALSCALE:GREGORIAN
METHOD:PUBLISH
X-WR-CALNAME:HABS Hessen
X-ORIGINAL-URL:https://www.habs-hessen.de
X-WR-CALDESC:Veranstaltungen für HABS Hessen
REFRESH-INTERVAL;VALUE=DURATION:PT1H
X-Robots-Tag:noindex
X-PUBLISHED-TTL:PT1H
BEGIN:VTIMEZONE
TZID:Europe/Berlin
BEGIN:DAYLIGHT
TZOFFSETFROM:+0100
TZOFFSETTO:+0200
TZNAME:CEST
DTSTART:20250330T010000
END:DAYLIGHT
BEGIN:STANDARD
TZOFFSETFROM:+0200
TZOFFSETTO:+0100
TZNAME:CET
DTSTART:20251026T010000
END:STANDARD
BEGIN:DAYLIGHT
TZOFFSETFROM:+0100
TZOFFSETTO:+0200
TZNAME:CEST
DTSTART:20260329T010000
END:DAYLIGHT
BEGIN:STANDARD
TZOFFSETFROM:+0200
TZOFFSETTO:+0100
TZNAME:CET
DTSTART:20261025T010000
END:STANDARD
BEGIN:DAYLIGHT
TZOFFSETFROM:+0100
TZOFFSETTO:+0200
TZNAME:CEST
DTSTART:20270328T010000
END:DAYLIGHT
BEGIN:STANDARD
TZOFFSETFROM:+0200
TZOFFSETTO:+0100
TZNAME:CET
DTSTART:20271031T010000
END:STANDARD
END:VTIMEZONE
BEGIN:VEVENT
DTSTART;TZID=Europe/Berlin:20260127T093000
DTEND;TZID=Europe/Berlin:20260127T124500
DTSTAMP:20260421T120457
CREATED:20251126T093630Z
LAST-MODIFIED:20251126T095514Z
UID:9590-1769506200-1769517900@www.habs-hessen.de
SUMMARY:BQS-C - Q1 2026 - Kseniya Borodina - 27.01. bis 10.03.2026
DESCRIPTION:Die Qualifizierung BQS-C für Fachlehrkräfte findet im Rahmen von sieben Terminen dienstags in der Zeit von 09:30 bis 12:45 Uhr an folgenden Tagen statt: \n\n27.01.2026\n03.02.2026\n10.02.2026\n17.02.2026\n24.02.2026\n03.03.2026\n10.03.2026
URL:https://www.habs-hessen.de/aktuelles/bqs-c-q1-2026-kseniya-borodina-27-01-bis-10-03-2026/
END:VEVENT
END:VCALENDAR