BEGIN:VCALENDAR
VERSION:2.0
PRODID:-//HABS Hessen - ECPv6.15.20//NONSGML v1.0//EN
CALSCALE:GREGORIAN
METHOD:PUBLISH
X-ORIGINAL-URL:https://www.habs-hessen.de
X-WR-CALDESC:Veranstaltungen für HABS Hessen
REFRESH-INTERVAL;VALUE=DURATION:PT1H
X-Robots-Tag:noindex
X-PUBLISHED-TTL:PT1H
BEGIN:VTIMEZONE
TZID:Europe/Berlin
BEGIN:DAYLIGHT
TZOFFSETFROM:+0100
TZOFFSETTO:+0200
TZNAME:CEST
DTSTART:20250330T010000
END:DAYLIGHT
BEGIN:STANDARD
TZOFFSETFROM:+0200
TZOFFSETTO:+0100
TZNAME:CET
DTSTART:20251026T010000
END:STANDARD
BEGIN:DAYLIGHT
TZOFFSETFROM:+0100
TZOFFSETTO:+0200
TZNAME:CEST
DTSTART:20260329T010000
END:DAYLIGHT
BEGIN:STANDARD
TZOFFSETFROM:+0200
TZOFFSETTO:+0100
TZNAME:CET
DTSTART:20261025T010000
END:STANDARD
BEGIN:DAYLIGHT
TZOFFSETFROM:+0100
TZOFFSETTO:+0200
TZNAME:CEST
DTSTART:20270328T010000
END:DAYLIGHT
BEGIN:STANDARD
TZOFFSETFROM:+0200
TZOFFSETTO:+0100
TZNAME:CET
DTSTART:20271031T010000
END:STANDARD
END:VTIMEZONE
BEGIN:VEVENT
DTSTART;TZID=Europe/Berlin:20260422T100000
DTEND;TZID=Europe/Berlin:20260422T120000
DTSTAMP:20260419T162740
CREATED:20260223T111325Z
LAST-MODIFIED:20260302T074426Z
UID:10326-1776852000-1776859200@www.habs-hessen.de
SUMMARY:AUSGEBUCHT: Szenariendidaktik Gruppe 1 - Q2 2026 - 22.04. bis 10.06.2026
DESCRIPTION:Aufgrund des hohen Anmeldeaufkommens kann diese Gruppe nur noch von bereits angemeldeten Lehrkräften gewählt werden. \nDie Schulung besteht aus fünf Terminen zur Methodik und Didaktik und einem optionalen sechsten Termin zur Anpassung von Szenarien. Für Gruppe 1 finden diese an folgenden Tagen jeweils in der Zeit von 10:00 bis 12:00 Uhr statt: \n\n22.04.2026\n29.04.2026\n20.05.2026\n03.06.2026\n10.06.2026\nOptionaler Termin zur Anpassung von Szenarien: nach den Hospitationsterminen
URL:https://www.habs-hessen.de/aktuelles/szenariendidaktik-gruppe-1-q2-2026-22-04-bis-10-06-2026/
LOCATION:Online
END:VEVENT
BEGIN:VEVENT
DTSTART;TZID=Europe/Berlin:20260422T130000
DTEND;TZID=Europe/Berlin:20260422T150000
DTSTAMP:20260419T162740
CREATED:20260223T111429Z
LAST-MODIFIED:20260302T074419Z
UID:10328-1776862800-1776870000@www.habs-hessen.de
SUMMARY:AUSGEBUCHT: Szenariendidaktik Gruppe 2 - Q2 2026 - 22.04. bis 10.06.2026
DESCRIPTION:Aufgrund des hohen Anmeldeaufkommens kann diese Gruppe nur noch von bereits angemeldeten Lehrkräften gewählt werden. \nDie Schulung besteht aus fünf Terminen zur Methodik und Didaktik und einem optionalen sechsten Termin zur Anpassung von Szenarien. Für Gruppe 2 finden diese an folgenden Tagen jeweils in der Zeit von 13:00 bis 15:00 Uhr statt: \n\n22.04.2026\n29.04.2026\n20.05.2026\n03.06.2026\n10.06.2026\nOptionaler Termin zur Anpassung von Szenarien: nach den Hospitationsterminen
URL:https://www.habs-hessen.de/aktuelles/szenariendidaktik-gruppe-2-q2-2026-22-04-bis-10-06-2026/
LOCATION:Online
END:VEVENT
END:VCALENDAR